BEGIN:VCALENDAR
PRODID:SchoolsOnlneCalendarPage
X-WR-CALNAME:Thomlinson Junior School - Main Calendar
X-WR-RELCALID:1008@610
X-WR-TIMEZONE:Europe/London
VERSION:2.0
CALSCALE:GREGORIAN
BEGIN:VEVENT
DTSTAMP:20260424T152926Z
DTSTART:20260504T090000
SUMMARY:BANK HOLIDAY
UID:69897@610
END:VEVENT
BEGIN:VEVENT
DTSTAMP:20260424T152926Z
DTSTART:20260525T090000
SUMMARY:HALF TERM
UID:69898@610
END:VEVENT
BEGIN:VEVENT
DTSTAMP:20260424T152926Z
DTSTART:20260720T090000
SUMMARY:SUMMER HOLIDAY
UID:69899@610
END:VEVENT
END:VCALENDAR
